BEGIN:VCALENDAR
VERSION:2.0
PRODID:-//Contratero//ES
CALSCALE:GREGORIAN
METHOD:PUBLISH
BEGIN:VEVENT
UID:Gex 2024/1828@contratero.es
DTSTAMP:20260419T154652Z
DTSTART:20260408T235959
DTEND:20260409T005959
SUMMARY:Cierre: Contrato mixto de suministro y servicios de soluci
DESCRIPTION:Contrato mixto de suministro y servicios de soluciones tecnológicas\, infraestructura y equipos destinados a la digitalización de espacios turísticos municipales de Zuheros en ejecución de la Acción 1 ...\\n\\nOrganismo: Alcaldía de Ayuntamiento de Zuheros\\n\\nVer en Contratero: https://contratero.es/contracts/Gex 2024/1828
URL:https://contratero.es/contracts/Gex 2024/1828
STATUS:CONFIRMED
BEGIN:VALARM
TRIGGER:-P1D
ACTION:DISPLAY
DESCRIPTION:Recordatorio: Contrato mixto de suministro y
END:VALARM
END:VEVENT
END:VCALENDAR